BEGIN:VCALENDAR
PRODID:-//eluceo/ical//2.0/EN
VERSION:2.0
CALSCALE:GREGORIAN
BEGIN:VEVENT
UID:a5f24b45-fa5e-4a61-b88c-d41c56cf2e5d
DTSTAMP:20251122T155946Z
SUMMARY:Helferessen
DESCRIPTION:
DTSTART:20260130T183000
DTEND:20260130T220000
LOCATION:Depot Widnau
END:VEVENT
BEGIN:VEVENT
UID:f14b8091-58ef-4338-aa05-5f9a6b2dcde6
DTSTAMP:20260220T130110Z
SUMMARY:Funken-Widnau
DESCRIPTION:<p>Wir werden mit dem TLF wieder die Funkenwache sicherstellen\
 , wer Zeit und Lust hat soll sich bitte eintragen. Die definitive Einteilu
 ng und Detail-Infos folgen danach.</p>
DTSTART:20260314T180000
DTEND:20260314T210000
LOCATION:Funkenplatz
END:VEVENT
BEGIN:VEVENT
UID:8ec3bdd5-08b3-49d8-a24c-3f2e06fa88ee
DTSTAMP:20260125T091138Z
SUMMARY:Bowlingabend
DESCRIPTION:
DTSTART:20260320T190000
DTEND:20260320T230000
LOCATION:BCR Widnau
END:VEVENT
BEGIN:VEVENT
UID:bbd61077-0828-4248-8db7-c75c47cee234
DTSTAMP:20260219T133256Z
SUMMARY:Familientag
DESCRIPTION:
DTSTART:20260621T100000
DTEND:20260621T163000
LOCATION:im Raum Widnau
END:VEVENT
BEGIN:VTIMEZONE
TZID:Europe/Berlin
BEGIN:STANDARD
DTSTART:20260130T183000
TZNAME:CET
TZOFFSETTO:+0100
TZOFFSETFROM:+0100
END:STANDARD
BEGIN:DAYLIGHT
DTSTART:20260329T030000
TZNAME:CEST
TZOFFSETTO:+0200
TZOFFSETFROM:+0100
END:DAYLIGHT
END:VTIMEZONE
END:VCALENDAR
