BEGIN:VCALENDAR
PRODID:-//eluceo/ical//2.0/EN
VERSION:2.0
CALSCALE:GREGORIAN
BEGIN:VEVENT
UID:bbd61077-0828-4248-8db7-c75c47cee234
DTSTAMP:20260219T133256Z
SUMMARY:Familientag
DESCRIPTION:
DTSTART:20260621T100000
DTEND:20260621T163000
LOCATION:im Raum Widnau
END:VEVENT
BEGIN:VTIMEZONE
TZID:Europe/Berlin
BEGIN:DAYLIGHT
DTSTART:20260621T100000
TZNAME:CEST
TZOFFSETTO:+0200
TZOFFSETFROM:+0200
END:DAYLIGHT
END:VTIMEZONE
END:VCALENDAR
